BEGIN:VCALENDAR
VERSION:2.0
PRODID:-//eventon.com NONSGML v1.0//EN
BEGIN:VEVENT
UID:69ed20eacb703
DTSTAMP:20260425T221538
DTSTART:20220319T183000Z
DTEND:20220319T200000Z
TZID:Europe/Madrid
LOCATION:Salón de actos del colegio Vera Cruz C. Principado de Asturias\,  6\,  23009 Jaén
SUMMARY:Concierto XV Aniversario María Stma. de los Desamparados
DESCRIPTION: Actuará la Banda de Música Nuestra Señora de la Amargura de la Sociedad Filarmónica de Jaén. Las entradas se podrán adquirir a partir del día 9 de marzo\,  en la sede de la Congregación de la Vera Cruz sita en la calle Muñoz Garnica\, 19\,  o a los miembros de la[..]
URL:https://pasionenjaen.com/events/concierto-xv-aniversario-maria-stma-de-los-desamparados/
END:VEVENT
END:VCALENDAR