BEGIN:VCALENDAR
VERSION:2.0
PRODID:-//eventon.com NONSGML v1.0//EN
BEGIN:VEVENT
UID:69ed352355687
DTSTAMP:20260425T234155
DTSTART:20220312T190000Z
DTEND:20220312T200000Z
TZID:Europe/Madrid
LOCATION:Academia de Arte Carrillo Martinez Molina\, 13
SUMMARY:Igualá de costaleros del Cristo Yacente y Ntra.Sra. de la Soledad
DESCRIPTION: Igualá de costaleros del Cristo Yacente y Ntra.Sra. de la Soledad
URL:https://pasionenjaen.com/events/iguala-de-costaleros-del-cristo-yacente-y-ntra-sra-de-la-soledad/
END:VEVENT
END:VCALENDAR