BEGIN:VCALENDAR
VERSION:2.0
PRODID:-//eventon.com NONSGML v1.0//EN
BEGIN:VEVENT
UID:69ed48f35669f
DTSTAMP:20260426T010627
DTSTART:20220320T183000Z
DTEND:20220320T200000Z
TZID:Europe/Madrid
LOCATION:Iglesia Conventual de la Purísima Concepción Calle Pilar de la Imprenta\,  Jaén
SUMMARY:Triduo en honor a Nuestro Padre Jesús de la Piedad - Dia 3
DESCRIPTION: Predicador: Rvdo. Sr Don Blas Pegalajar González\,  Capellán de la Hdad.
URL:https://pasionenjaen.com/events/triduo-en-honor-a-nuestro-padre-jesus-de-la-piedad-dia-3/
END:VEVENT
END:VCALENDAR