BEGIN:VCALENDAR
VERSION:2.0
PRODID:-//eventon.com NONSGML v1.0//EN
BEGIN:VEVENT
UID:69ed787f491c0
DTSTAMP:20260426T042919
DTSTART:20220318T183000Z
DTEND:20220318T200000Z
TZID:Europe/Madrid
LOCATION:Iglesia Conventual de la Purísima Concepción Calle Pilar de la Imprenta\,  Jaén
SUMMARY:Triduo en honor a Nuestro Padre Jesús de la Piedad - Dia 1
DESCRIPTION: Predicador: Rvdo. Sr Don Blas Pegalajar González\,  Capellán de la Hdad.
URL:https://pasionenjaen.com/events/triduo-en-honor-a-nuestro-padre-jesus-de-la-piedad-dia-1/
END:VEVENT
END:VCALENDAR