BEGIN:VCALENDAR
VERSION:2.0
PRODID:-//eventon.com NONSGML v1.0//EN
BEGIN:VEVENT
UID:69ed8ebb6e966
DTSTAMP:20260426T060411
DTSTART:20220320T121500Z
DTEND:20220320T150000Z
TZID:Europe/Madrid
LOCATION:Parroquia de Santa María Magdalena Plaza de la Magdalena\,  s/n\,  Jaén
SUMMARY:Concierto de marchas procesionales "La Magdalena"
DESCRIPTION: Actuarán: A.M. Nuestro Padre Jesús de la Piedad en su Presentación al Pueblo &#8220;La Estrella&#8221; Banda de Cornetas y Tambores Fe y Consuelo
URL:https://pasionenjaen.com/events/concierto-de-marchas-procesionales-la-magdalena/
END:VEVENT
END:VCALENDAR