BEGIN:VCALENDAR
VERSION:2.0
PRODID:-//eventon.com NONSGML v1.0//EN
BEGIN:VEVENT
UID:69e4c4e6d8a8e
DTSTAMP:20260419T140454
DTSTART:20170303T193000Z
DTEND:20170303T203000Z
LOCATION:Iglesia de San Félix de Valois Av de Andalucía\,  38\,  Jaén
SUMMARY:Triduo cuaresmal de la Santa Cena - Día 1
DESCRIPTION: Predicado por el Rvdo. Sr. D. Francisco Carrasco Cuadros
URL:https://pasionenjaen.com/events/triduo-cuaresmal-de-la-santa-cena-dia-1/
END:VEVENT
END:VCALENDAR