BEGIN:VCALENDAR
VERSION:2.0
PRODID:-//eventon.com NONSGML v1.0//EN
BEGIN:VEVENT
UID:69e4dbe6c4a84
DTSTAMP:20260419T154302
DTSTART:20170225T203000Z
DTEND:20170225T220000Z
LOCATION:Residencia Caridad y Consolación de Jaén Calle Juan Pablo II\,  23009 Jaén
SUMMARY:Presentación del XVII Boletín Santa Cena
DESCRIPTION: Presentado por María de los Ángeles Puertollano Vacas
URL:https://pasionenjaen.com/events/presentacion-del-xvii-boletin-santa-cena/
END:VEVENT
END:VCALENDAR