BEGIN:VCALENDAR
VERSION:2.0
PRODID:-//eventon.com NONSGML v1.0//EN
BEGIN:VEVENT
UID:69e4ed8f6c3d4
DTSTAMP:20260419T165823
DTSTART:20170519T210000Z
DTEND:20170519T220000Z
LOCATION:Parroquia de Santa María Magdalena Plaza de la Magdalena\,  s/n\,  Jaén
SUMMARY:Rosario vespertino con María Stma. del Mayor Dolor
DESCRIPTION: Rosario vespertino con María Stma. del Mayor Dolor
URL:https://pasionenjaen.com/events/rosario-vespertino-con-maria-stma-del-mayor-dolor/
END:VEVENT
END:VCALENDAR