BEGIN:VCALENDAR
VERSION:2.0
PRODID:-//eventon.com NONSGML v1.0//EN
BEGIN:VEVENT
UID:69e5038ad2530
DTSTAMP:20260419T183210
DTSTART:20170514T120000Z
DTEND:20170514T130000Z
LOCATION:Parroquia de Santa María Magdalena Plaza de la Magdalena\,  s/n\,  Jaén
SUMMARY:Fiesta del Cristo de la Clemencia
DESCRIPTION: Fiesta del Cristo de la Clemencia
URL:https://pasionenjaen.com/events/fiesta-del-cristo-de-la-clemencia/
END:VEVENT
END:VCALENDAR