BEGIN:VCALENDAR
VERSION:2.0
PRODID:-//eventon.com NONSGML v1.0//EN
BEGIN:VEVENT
UID:69e52aff962da
DTSTAMP:20260419T212031
DTSTART:20170322T193000Z
DTEND:20170322T203000Z
LOCATION:Parroquia de Santa María Magdalena Plaza de la Magdalena\,  s/n\,  Jaén
SUMMARY:Quinario de la Cofradía de la Clemencia - Día 2
DESCRIPTION: Fiesta en honor a Ntro. Padre Jesús de la Caída. 19:00h rezo del Santo Rosario. 19:30h Eucaristía.
URL:https://pasionenjaen.com/events/quinario-de-la-cofradia-de-la-clemencia-dia-2/
END:VEVENT
END:VCALENDAR