BEGIN:VCALENDAR
VERSION:2.0
PRODID:-//eventon.com NONSGML v1.0//EN
BEGIN:VEVENT
UID:69e5132834ddb
DTSTAMP:20260419T193848
DTSTART:20170321T193000Z
DTEND:20170321T203000Z
LOCATION:Parroquia de Santa María Magdalena Plaza de la Magdalena\,  s/n\,  Jaén
SUMMARY:Quinario de la Cofradía de la Clemencia - Día 1
DESCRIPTION: 19:00h rezo del Santo Rosario. 19:30h Eucaristía.
URL:https://pasionenjaen.com/events/quinario-de-la-cofradia-de-la-clemencia-dia-1/
END:VEVENT
END:VCALENDAR