BEGIN:VCALENDAR
VERSION:2.0
PRODID:-//eventon.com NONSGML v1.0//EN
BEGIN:VEVENT
UID:69e4faf6d7ee8
DTSTAMP:20260419T175534
DTSTART:20170303T200000Z
DTEND:20170303T220000Z
LOCATION:Parroquia de Santa María Magdalena Plaza de la Magdalena\,  s/n\,  Jaén
SUMMARY:Vía Crucis Cristo de Medinaceli
DESCRIPTION: Por las calles del barrio de la Magdalena.
URL:https://pasionenjaen.com/events/via-crucis-cristo-de-medinaceli/
END:VEVENT
END:VCALENDAR