BEGIN:VCALENDAR
VERSION:2.0
PRODID:-//eventon.com NONSGML v1.0//EN
BEGIN:VEVENT
UID:69e4e2857b9c5
DTSTAMP:20260419T161117
DTSTART:20170303T190000Z
DTEND:20170303T200000Z
LOCATION:Parroquia de Santa María Magdalena Plaza de la Magdalena\,  s/n\,  Jaén
SUMMARY:Triduo Ntro. Padre Jesús de Medinaceli - Día 3
DESCRIPTION: Triduo Ntro. Padre Jesús de Medinaceli - Día 3
URL:https://pasionenjaen.com/events/triduo-ntro-padre-jesus-de-medinaceli-dia-3/
END:VEVENT
END:VCALENDAR