BEGIN:VCALENDAR
VERSION:2.0
PRODID:-//eventon.com NONSGML v1.0//EN
BEGIN:VEVENT
UID:69e4cde59ec9a
DTSTAMP:20260419T144317
DTSTART:20170302T190000Z
DTEND:20170302T200000Z
LOCATION:Parroquia de Santa María Magdalena Plaza de la Magdalena\,  s/n\,  Jaén
SUMMARY:Triduo Ntro. Padre Jesús de Medinaceli - Día 2
DESCRIPTION: Triduo Ntro. Padre Jesús de Medinaceli - Día 2
URL:https://pasionenjaen.com/events/triduo-ntro-padre-jesus-de-medinaceli-dia-2/
END:VEVENT
END:VCALENDAR