BEGIN:VCALENDAR
VERSION:2.0
PRODID:-//eventon.com NONSGML v1.0//EN
BEGIN:VEVENT
UID:69e4cc536c67d
DTSTAMP:20260419T143635
DTSTART:20170301T190000Z
DTEND:20170301T200000Z
LOCATION:Parroquia de Santa María Magdalena Plaza de la Magdalena\,  s/n\,  Jaén
SUMMARY:Triduo Ntro. Padre Jesús de Medinaceli - Día 1
DESCRIPTION: Triduo Ntro. Padre Jesús de Medinaceli - Día 1
URL:https://pasionenjaen.com/events/triduo-ntro-padre-jesus-de-medinaceli-dia-1/
END:VEVENT
END:VCALENDAR