BEGIN:VCALENDAR
VERSION:2.0
PRODID:-//eventon.com NONSGML v1.0//EN
BEGIN:VEVENT
UID:69e4d69d69ab0
DTSTAMP:20260419T152029
DTSTART:20170217T173000Z
DTEND:20170217T200000Z
LOCATION:Casa de Hermandad de la Soledad C. Reja de la Capilla\,  8\,  23001 Jaén
SUMMARY:Donación de sangre - Casa hermandad de la Soledad
DESCRIPTION: Donación de sangre - Casa hermandad de la Soledad
URL:https://pasionenjaen.com/events/donacion-de-sangre-casa-hermandad-de-la-soledad/
END:VEVENT
END:VCALENDAR