BEGIN:VCALENDAR
VERSION:2.0
PRODID:-//eventon.com NONSGML v1.0//EN
BEGIN:VEVENT
UID:69e4ee51031ee
DTSTAMP:20260419T170137
DTSTART:20170216T200000Z
DTEND:20170216T210000Z
LOCATION:El Corte Inglés\,  cafetería Av de Madrid\,  31 23008 Jaén
SUMMARY:Presentación boletín "Yacente y Soledad"
DESCRIPTION: A continuación se realizará una conferencia sobre “La Cofradía de la Soledad de Jaén en el período de los 70 a los 90” por parte de D. Rafael Aranda Pérez
URL:https://pasionenjaen.com/events/presentacion-boletin-de-la-soledad/
END:VEVENT
END:VCALENDAR