BEGIN:VCALENDAR
VERSION:2.0
PRODID:-//eventon.com NONSGML v1.0//EN
BEGIN:VEVENT
UID:69e507e6e5c0c
DTSTAMP:20260419T185046
DTSTART:20170217T200000Z
DTEND:20170217T210000Z
LOCATION:Sala Capitular de la Santa Iglesia Catedral Catedral de Jaén\,  Plaza de Santa María\,  s/n\,  23002 Jaén
SUMMARY:Charla: El Descendimiento de Cristo a través de sus Reliquias
DESCRIPTION: Impartida por el investigador de la Universidad de Jaén Dr. Jesús Cobo Molinos.
URL:https://pasionenjaen.com/events/charla-el-descendimiento-de-cristo-a-traves-de-sus-reliquias/
END:VEVENT
END:VCALENDAR