BEGIN:VCALENDAR
VERSION:2.0
PRODID:-//eventon.com NONSGML v1.0//EN
BEGIN:VEVENT
UID:69e51d2271eb5
DTSTAMP:20260419T202122
DTSTART:20170304T200000Z
DTEND:20170304T213000Z
LOCATION:Capilla del Hospital San Juan de Dios Plaza de San Juan de Dios\,  2\,  23003\,  Jaén
SUMMARY:Concierto "Et Mater Est"
DESCRIPTION: Piano\,  Violín\,  Clarinete y Violoncello tocados por Christian Palomino\,  Clara Rocío\,  Roberto Mena\,  María Dolores Gay.
URL:https://pasionenjaen.com/events/concierto-et-mater-est/
END:VEVENT
END:VCALENDAR