BEGIN:VCALENDAR
VERSION:2.0
PRODID:-//eventon.com NONSGML v1.0//EN
BEGIN:VEVENT
UID:69e5271a0d8f3
DTSTAMP:20260419T210354
DTSTART:20170224T200000Z
DTEND:20170224T210000Z
LOCATION:Parroquia Santa María Madre de la Iglesia Ronda del Juez Juan Ruiz Rico\,  s/n\,  Jaén
SUMMARY:Charla: La Pasión de Cristo según sus Reliquias
DESCRIPTION: Impartida por D. Jesús Cobo Molinos\,  profesor e investigador de la Universidad de Jaén.
URL:https://pasionenjaen.com/events/charla-la-pasion-de-cristo-segun-sus-reliquias/
END:VEVENT
END:VCALENDAR