BEGIN:VCALENDAR
VERSION:2.0
PRODID:-//eventon.com NONSGML v1.0//EN
BEGIN:VEVENT
UID:69e50f524c49d
DTSTAMP:20260419T192226
DTSTART:20170209T203000Z
DTEND:20170209T213000Z
LOCATION:Parroquia de Santa Isabel Plaza de Santa Isabel\,  s/n\,  Jaén
SUMMARY:Reunión de costaleros de Jesús Cautivo
DESCRIPTION: Reunión de costaleros de Jesús Cautivo
URL:https://pasionenjaen.com/events/reunion-de-costaleros-de-jesus-cautivo/
END:VEVENT
END:VCALENDAR