BEGIN:VCALENDAR
VERSION:2.0
PRODID:-//eventon.com NONSGML v1.0//EN
BEGIN:VEVENT
UID:69e4f773ccd40
DTSTAMP:20260419T174035
DTSTART:20170301T183000Z
DTEND:20170301T220000Z
LOCATION:Basílica Menor de San Ildefonso Plaza de San Ildefonso\,  Jaén
SUMMARY:Miércoles de Ceniza
DESCRIPTION: Salida de Nuestra Señora de La Piedad desde la Basílica Menor de Sam Ildefonso: 18:30 h. Llegada a la Catedral: 19:30 h. Eucaristía e Imposición de la Ceniza: 20:00 h. Solemne Vía Crucis: 21:00 h.
URL:https://pasionenjaen.com/events/miercoles-de-ceniza-2/
END:VEVENT
END:VCALENDAR