BEGIN:VCALENDAR
VERSION:2.0
PRODID:-//eventon.com NONSGML v1.0//EN
BEGIN:VEVENT
UID:69e4fb8a3d85c
DTSTAMP:20260419T175802
DTSTART:20170228T120000Z
DTEND:20170228T140000Z
LOCATION:Plaza de Santa María Plaza de Santa María\,  s/n\,  23002 Jaén
SUMMARY:III Certamen Sonidos de Pasión
DESCRIPTION: III Certamen Sonidos de Pasión
URL:https://pasionenjaen.com/events/iii-certamen-sonidos-de-pasion/
END:VEVENT
END:VCALENDAR