BEGIN:VCALENDAR
VERSION:2.0
PRODID:-//eventon.com NONSGML v1.0//EN
BEGIN:VEVENT
UID:69e4cf793def0
DTSTAMP:20260419T145001
DTSTART:20170205T103000Z
DTEND:20170205T130000Z
LOCATION:Seminario de Jaén Calle Juan Montilla\,  1 23002 Jaén
SUMMARY:Asamblea de cofrades - Nuestro Padre Jesús Nazareno
DESCRIPTION: Asamblea General Ordinaria de Cofrades que\,  con carácter ordinario\,  se celebrará (D. m.) el domingo día 5 de febrero de 2017\,  en el Salón de Actos del Seminario Diocesano\,  sito en la calle Juan Montilla\,  nº 1 de la capital\,  para tratar los asuntos que componen el siguiente Orden del[..]
URL:https://pasionenjaen.com/events/asamblea-de-cofrades-nuestro-padre-jesus-nazareno/
END:VEVENT
END:VCALENDAR