BEGIN:VCALENDAR
VERSION:2.0
PRODID:-//eventon.com NONSGML v1.0//EN
BEGIN:VEVENT
UID:69e4d77262c48
DTSTAMP:20260419T152402
DTSTART:20161217T200000Z
DTEND:20161217T210000Z
LOCATION:Parroquia de Cristo Rey Cristo Rey 2\,  Jaén
SUMMARY:Triduo María Stma de la Esperanza - Día 2
DESCRIPTION: Triduo María Stma de la Esperanza - Día 2
URL:https://pasionenjaen.com/events/triduo-maria-stma-de-la-esperanza-dia-2/
END:VEVENT
END:VCALENDAR