BEGIN:VCALENDAR
VERSION:2.0
PRODID:-//eventon.com NONSGML v1.0//EN
BEGIN:VEVENT
UID:69e4edd82684a
DTSTAMP:20260419T165936
DTSTART:20161216T190000Z
DTEND:20161216T200000Z
LOCATION:Parroquia de Cristo Rey Cristo Rey 2\,  Jaén
SUMMARY:Triduo María Stma de la Esperanza - Día 1
DESCRIPTION: Triduo María Stma de la Esperanza - Día 1
URL:https://pasionenjaen.com/events/triduo-maria-stma-de-la-esperanza-dia-1/
END:VEVENT
END:VCALENDAR