BEGIN:VCALENDAR
VERSION:2.0
PRODID:-//eventon.com NONSGML v1.0//EN
BEGIN:VEVENT
UID:69e5062aa9f0a
DTSTAMP:20260419T184322
DTSTART:20161204T100000Z
DTEND:20161204T120000Z
LOCATION:Parroquia de Belén y San Roque Plaza Virgen de la Paz\,  s/n\,  Jaén
SUMMARY:Asamblea General de hermanos de la Borriquilla
DESCRIPTION: Asamblea General de hermanos de la Borriquilla
URL:https://pasionenjaen.com/events/asamblea-general-de-hermanos-de-la-borriquilla/
END:VEVENT
END:VCALENDAR