BEGIN:VCALENDAR
VERSION:2.0
PRODID:-//eventon.com NONSGML v1.0//EN
BEGIN:VEVENT
UID:69e51e28c42b2
DTSTAMP:20260419T202544
DTSTART:20161202T200000Z
DTEND:20161202T213000Z
LOCATION:Iglesia Conventual de la Purísima Concepción Calle Pilar de la Imprenta\,  Jaén
SUMMARY:Concierto Conmemoración 800 Años de la Orden de Predicadores
DESCRIPTION: Con motivo del 800 Aniversario de la Orden de Predicadores\,  la Comunidad de Madres Dominicas\,  la Cofradía de Ntra. Sra. del Rosario y la Hermandad Piedad y Estrella\,  han organizado un Concierto Conmemorativo por tal efeméride en la Iglesia Conventual de la Purísima Concepción para el próximo 2 de diciembre[..]
URL:https://pasionenjaen.com/events/concierto-conmemoracion-800-anos-de-la-orden-de-predicadores/
END:VEVENT
END:VCALENDAR