BEGIN:VCALENDAR
VERSION:2.0
PRODID:-//eventon.com NONSGML v1.0//EN
BEGIN:VEVENT
UID:69e53791c0c11
DTSTAMP:20260419T221409
DTSTART:20161126T193000Z
DTEND:20161126T203000Z
LOCATION:Santuario Camarín de Jesús Calle Carrera de Jesús\,  33\,  Jaén
SUMMARY:Misa por el séptimo aniversario del traslado de Ntro. Padre Jesús al Santuario Camarín
DESCRIPTION: Misa por el séptimo aniversario del traslado de Ntro. Padre Jesús al Santuario Camarín
URL:https://pasionenjaen.com/events/misa-por-el-septimo-aniversario-del-traslado-de-ntro-padre-jesus-al-santuario-camarin/
END:VEVENT
END:VCALENDAR