BEGIN:VCALENDAR
VERSION:2.0
PRODID:-//eventon.com NONSGML v1.0//EN
BEGIN:VEVENT
UID:69e564db77684
DTSTAMP:20260420T012723
DTSTART:20161122T200000Z
DTEND:20161122T220000Z
LOCATION:Colegio Divino Maestro C/ los Peñas\,  12\,  Jaén 
SUMMARY:Primera reunión de costaleros del Divino Maestro
DESCRIPTION: Formación de nueva cuadrilla para la primera salida procesional en el Martes Santo de 2017.
URL:https://pasionenjaen.com/events/primera-reunion-de-costaleros-del-divino-maestro/
END:VEVENT
END:VCALENDAR