BEGIN:VCALENDAR
VERSION:2.0
PRODID:-//eventon.com NONSGML v1.0//EN
BEGIN:VEVENT
UID:69e57dffa2e93
DTSTAMP:20260420T031439
DTSTART:20161216T200000Z
DTEND:20161216T210000Z
LOCATION:Salones Parroquiales de la Basílica Menor de San Ildefonso Plaza de San Ildefonso\,  Jaén
SUMMARY:Charla: Historia y Símbolos de las Cofradías Sacramentales
DESCRIPTION: Ponente: Don Francisco Jiménez Delgado.
URL:https://pasionenjaen.com/events/charla-historia-y-simbolos-de-las-cofradias-sacramentales/
END:VEVENT
END:VCALENDAR