BEGIN:VCALENDAR
VERSION:2.0
PRODID:-//eventon.com NONSGML v1.0//EN
BEGIN:VEVENT
UID:69e5966319b57
DTSTAMP:20260420T045843
DTSTART:20161118T180000Z
DTEND:20161118T213000Z
LOCATION:Parroquia de San Juan de la Cruz calle La Luna 10\,  Jaén
SUMMARY:Elecciones en la Hermandad del Rocío
DESCRIPTION: Elecciones en la Hermandad del Rocío
URL:https://pasionenjaen.com/events/elecciones-en-la-hermandad-del-rocio/
END:VEVENT
END:VCALENDAR