BEGIN:VCALENDAR
VERSION:2.0
PRODID:-//eventon.com NONSGML v1.0//EN
BEGIN:VEVENT
UID:69e5ad4fb00ee
DTSTAMP:20260420T063631
DTSTART:20161119T200000Z
DTEND:20161119T210000Z
LOCATION:Parroquia de San Bartolomé Plaza de San Bartolomé\,  Jaén
SUMMARY:Concierto de la Banda de Cc y Tt Stmo. Cristo de la Expiración
DESCRIPTION: En honor a María Santísima de las Siete Palabras en el segundo día de su Triduo
URL:https://pasionenjaen.com/events/concierto-de-la-banda-de-cc-y-tt-stmo-cristo-de-la-expiracion/
END:VEVENT
END:VCALENDAR