BEGIN:VCALENDAR
VERSION:2.0
PRODID:-//eventon.com NONSGML v1.0//EN
BEGIN:VEVENT
UID:69e5c55a2386c
DTSTAMP:20260420T081906
DTSTART:20161121T193000Z
DTEND:20161121T203000Z
LOCATION:Capilla del DColegio Divino Maestro C/ los Peñas\,  12\,  Jaén 
SUMMARY:Eucaristía conmemorativa del I Aniversario de Bendición de Jesús Divino Maestro
DESCRIPTION: Eucaristía conmemorativa del I Aniversario de Bendición de Jesús Divino Maestro
URL:https://pasionenjaen.com/events/eucaristia-conmemorativa-del-i-aniversario-de-bendicion-de-jesus-divino-maestro/
END:VEVENT
END:VCALENDAR