BEGIN:VCALENDAR
VERSION:2.0
PRODID:-//eventon.com NONSGML v1.0//EN
BEGIN:VEVENT
UID:69e5dda310594
DTSTAMP:20260420T100243
DTSTART:20161119T130000Z
DTEND:20161119T170000Z
LOCATION:Real Monasterio de Santa Clara Calle Santa Clara\,  7 23004 Jaén
SUMMARY:Convivencia de hermandades del Lunes Santo
DESCRIPTION: Convivencia de hermandades del Lunes Santo
URL:https://pasionenjaen.com/events/convivencia-de-hermandades-del-lunes-santo/
END:VEVENT
END:VCALENDAR