BEGIN:VCALENDAR
VERSION:2.0
PRODID:-//eventon.com NONSGML v1.0//EN
BEGIN:VEVENT
UID:69e88b763e11d
DTSTAMP:20260422T104854
DTSTART:20161120T200000Z
DTEND:20161120T210000Z
LOCATION:Parroquia de San Bartolomé Plaza de San Bartolomé\,  Jaén
SUMMARY:Triduo a María Santísima de las Siete Palabras - Día 3
DESCRIPTION: Triduo a María Santísima de las Siete Palabras - Día 3
URL:https://pasionenjaen.com/events/triduo-a-maria-santisima-de-las-siete-palabras-dia-3/
END:VEVENT
END:VCALENDAR