BEGIN:VCALENDAR
VERSION:2.0
PRODID:-//eventon.com NONSGML v1.0//EN
BEGIN:VEVENT
UID:69e8a07ac875d
DTSTAMP:20260422T121834
DTSTART:20161119T200000Z
DTEND:20161119T210000Z
LOCATION:Parroquia de San Bartolomé Plaza de San Bartolomé\,  Jaén
SUMMARY:Triduo a María Santísima de las Siete Palabras - Día 2
DESCRIPTION: Triduo a María Santísima de las Siete Palabras - Día 2
URL:https://pasionenjaen.com/events/triduo-a-maria-santisima-de-las-siete-palabras-dia-2/
END:VEVENT
END:VCALENDAR