BEGIN:VCALENDAR
VERSION:2.0
PRODID:-//eventon.com NONSGML v1.0//EN
BEGIN:VEVENT
UID:69e8cbaa0618f
DTSTAMP:20260422T152250
DTSTART:20161118T200000Z
DTEND:20161118T210000Z
LOCATION:Iglesia Conventual de la Purísima Concepción Calle Pilar de la Imprenta\,  Jaén
SUMMARY:Conferencia: “María Madre de Misericordia\,  modelo de la Iglesia”
DESCRIPTION: Ponente: Ilmo. Sr. D. Francisco Juan Martínez Rojas\,  Vicario General de la Diócesis de Jaén y Deán de la Santa Iglesia Catedral.
URL:https://pasionenjaen.com/events/conferencia-maria-madre-de-misericordia-modelo-de-la-iglesia/
END:VEVENT
END:VCALENDAR