BEGIN:VCALENDAR
VERSION:2.0
PRODID:-//eventon.com NONSGML v1.0//EN
BEGIN:VEVENT
UID:69e8e431bc79b
DTSTAMP:20260422T170729
DTSTART:20161120T130000Z
DTEND:20161120T140000Z
LOCATION:S.I. Catedral Plaza de Santa María\,  s/n\,  23002 Jaén
SUMMARY:Fiesta en Honor a Cristo Descendido de la Cruz
DESCRIPTION: Fiesta en Honor a Cristo Descendido de la Cruz
URL:https://pasionenjaen.com/events/fiesta-en-honor-a-cristo-descendido-de-la-cruz/
END:VEVENT
END:VCALENDAR