BEGIN:VCALENDAR
VERSION:2.0
PRODID:-//eventon.com NONSGML v1.0//EN
BEGIN:VEVENT
UID:69e8f9e6529bb
DTSTAMP:20260422T184006
DTSTART:20161120T200000Z
DTEND:20161120T210000Z
LOCATION:Casa de Hermandad de la Vera Cruz C/ Muñoz Garnica nº 19\,  bajo
SUMMARY:Igualá de costaleros de María Stma. de los Dolores
DESCRIPTION: Igualá de costaleros de María Stma. de los Dolores
URL:https://pasionenjaen.com/events/iguala-de-costaleros-de-maria-stma-de-los-dolores/
END:VEVENT
END:VCALENDAR