BEGIN:VCALENDAR
VERSION:2.0
PRODID:-//eventon.com NONSGML v1.0//EN
BEGIN:VEVENT
UID:69e910494a532
DTSTAMP:20260422T201537
DTSTART:20161113T170000Z
DTEND:20161113T180000Z
LOCATION:Casa de Hermandad de la Vera Cruz C/ Muñoz Garnica nº 19\,  bajo
SUMMARY:Igualá de costaleros de la Oración en el Huerto
DESCRIPTION: Igualá de costaleros de la Oración en el Huerto
URL:https://pasionenjaen.com/events/iguala-de-costaleros-de-la-oracion-en-el-huerto/
END:VEVENT
END:VCALENDAR