BEGIN:VCALENDAR
VERSION:2.0
PRODID:-//eventon.com NONSGML v1.0//EN
BEGIN:VEVENT
UID:69e92a260e163
DTSTAMP:20260422T220558
DTSTART:20161120T170000Z
DTEND:20161120T180000Z
LOCATION:Casa de Hermandad de la Vera Cruz C/ Muñoz Garnica nº 19\,  bajo
SUMMARY:Igualá de costaleros de María Santísima de los Desamparados
DESCRIPTION: Igualá de costaleros de María Santísima de los Desamparados
URL:https://pasionenjaen.com/events/iguala-de-costaleros-de-maria-santisima-de-los-desamparados/
END:VEVENT
END:VCALENDAR