BEGIN:VCALENDAR
VERSION:2.0
PRODID:-//eventon.com NONSGML v1.0//EN
BEGIN:VEVENT
UID:69e942cd7149a
DTSTAMP:20260422T235109
DTSTART:20161126T183000Z
DTEND:20161126T193000Z
LOCATION:Casa de Hermandad de la Vera Cruz C/ Muñoz Garnica nº 19\,  bajo
SUMMARY:Igualá de costaleros del Stmo. Cristo de la Vera Cruz
DESCRIPTION: Igualá de costaleros del Stmo. Cristo de la Vera Cruz
URL:https://pasionenjaen.com/events/iguala-de-costaleros-del-stmo-cristo-de-la-vera-cruz/
END:VEVENT
END:VCALENDAR