BEGIN:VCALENDAR
VERSION:2.0
PRODID:-//eventon.com NONSGML v1.0//EN
BEGIN:VEVENT
UID:69e96038e7207
DTSTAMP:20260423T015640
DTSTART:20161113T140000Z
DTEND:20161113T170000Z
LOCATION:Hotel Condestable Iranzo Paseo de la Estación\,  32\,  23008 Jaén
SUMMARY:VII Comida Solidaria Virgen de la Capilla
DESCRIPTION: VII Comida Solidaria Virgen de la Capilla
URL:https://pasionenjaen.com/events/vii-comida-solidaria-virgen-de-la-capilla/
END:VEVENT
END:VCALENDAR