BEGIN:VCALENDAR
VERSION:2.0
PRODID:-//eventon.com NONSGML v1.0//EN
BEGIN:VEVENT
UID:69e979900f411
DTSTAMP:20260423T034448
DTSTART:20161119T163000Z
DTEND:20161119T180000Z
LOCATION:Salones Parroquiales de la Basílica Menor de San Ildefonso Plaza de San Ildefonso\,  Jaén
SUMMARY:Asamblea General Ordinaria de la Cofradía del Resucitado
DESCRIPTION: El orden del día es: 1.- Lectura y Aprobación\,  si procede\,  del acta de la Asamblea anterior. 2.- Informe del Hermano Mayor. 3.- Informe del Administrador. 4.- Restauración del Señor Resucitado. 5.- Ruegos y Preguntas. Posteriormente (18:00 / 18:30) hay convocada una Asamblea Extraordinaria\,  con el siguiente orden del día:[..]
URL:https://pasionenjaen.com/events/asamblea-general-ordinaria-de-la-cofradia-del-resucitado/
END:VEVENT
END:VCALENDAR