BEGIN:VCALENDAR
VERSION:2.0
PRODID:-//eventon.com NONSGML v1.0//EN
BEGIN:VEVENT
UID:69e99177ec75b
DTSTAMP:20260423T052647
DTSTART:20161111T200000Z
DTEND:20161111T210000Z
LOCATION:Casa de Hermandad del Santo Sepulcro Calle Martínez Molina\,  20\,  Jaén
SUMMARY:Conferencia: "Historia y ciencia de la reliquia del Santo Rostro de Jesús"
DESCRIPTION: Ponente: Jesús Cobo Molinos
URL:https://pasionenjaen.com/events/conferencia-historia-y-ciencia-de-la-reliquia-del-santo-rostro-de-jesus/
END:VEVENT
END:VCALENDAR