BEGIN:VCALENDAR
VERSION:2.0
PRODID:-//eventon.com NONSGML v1.0//EN
BEGIN:VEVENT
UID:69e9a8ccbdba3
DTSTAMP:20260423T070620
DTSTART:20161107T203000Z
DTEND:20161107T213000Z
LOCATION:Agrupación de Cofradías Calle Bernardo López 6\,  Jaén
SUMMARY:Charla formativa: "Amoris laetitia"
DESCRIPTION: Impartida por el Rvdo. Sr. D. Francisco Rosales\,  consiliario de la Agrupación de Cofradías.
URL:https://pasionenjaen.com/events/charla-formativa-amoris-laetitia/
END:VEVENT
END:VCALENDAR