BEGIN:VCALENDAR
VERSION:2.0
PRODID:-//eventon.com NONSGML v1.0//EN
BEGIN:VEVENT
UID:69e9c3b44dd7a
DTSTAMP:20260423T090108
DTSTART:20161113T100000Z
DTEND:20161113T150000Z
LOCATION:Polideportivo de las Fuentezuelas 
SUMMARY:V Ruta MTB Esperanza (Memorial Rafael Mariscal Muñoz)
DESCRIPTION: Toda la información sobre inscripción y modalidades en: https://esperanzajaenera.wordpress.com/2016/10/31/v-ruta-solidaria-mtb-esperanza-memorial-rafael-mariscal-munoz/ Todos los beneficios obtenidos en el evento irán destinados a la Vocalía de caridad de la Hermandad\,  destinando el grueso de los mismos a sufragar los gastos de mantenimiento del Centro de Día de Mayores “Virgen de la Esperanza”\,  de los que[..]
URL:https://pasionenjaen.com/events/v-ruta-mtb-esperanza-memorial-rafael-mariscal-munoz/
END:VEVENT
END:VCALENDAR