BEGIN:VCALENDAR
VERSION:2.0
PRODID:-//eventon.com NONSGML v1.0//EN
BEGIN:VEVENT
UID:69e9f0f678abf
DTSTAMP:20260423T121414
DTSTART:20161123T200000Z
DTEND:20161123T210000Z
LOCATION:Parroquia de la Inmaculada y San Pedro Pascual Ctra de Jabalcuz\,  2\,  23160 Jaén
SUMMARY:Triduo a Santa Catalina - Día 3
DESCRIPTION: Triduo a Santa Catalina - Día 3
URL:https://pasionenjaen.com/events/triduo-a-santa-catalina-dia-3-3/
END:VEVENT
END:VCALENDAR