BEGIN:VCALENDAR
VERSION:2.0
PRODID:-//eventon.com NONSGML v1.0//EN
BEGIN:VEVENT
UID:69ea04a400b25
DTSTAMP:20260423T133812
DTSTART:20161121T200000Z
DTEND:20161121T210000Z
LOCATION:Parroquia de la Inmaculada y San Pedro Pascual Ctra de Jabalcuz\,  2\,  23160 Jaén
SUMMARY:Triduo a Santa Catalina - Día 1
DESCRIPTION: Triduo a Santa Catalina - Día 1
URL:https://pasionenjaen.com/events/triduo-a-santa-catalina-dia-1-3/
END:VEVENT
END:VCALENDAR